BEGIN:VCALENDAR
VERSION:2.0
CALSCALE:GREGORIAN
PRODID:-//Diputació de Barcelona//DibaCMS//EN
BEGIN:VEVENT
UID:2006
DTSTAMP:20260419T163450
DTSTART:20140510T000000
DTEND:20140512T000000
SUMMARY:VII Trobada de dones del Bages
LOCATION:
METHOD:PUBLISH
X-WR-CALNAME:castellgali@diba.cat
X-WR-TIMEZONE:Europe/Madrid
DESCRIPTION:
URI:https://www.castellgali.cat/actualitat/agenda-/vii-trobada-de-dones-del-bages.html
CLASS:PUBLIC
END:VEVENT
END:VCALENDAR
