BEGIN:VCALENDAR
VERSION:2.0
CALSCALE:GREGORIAN
PRODID:-//Diputació de Barcelona//DibaCMS//EN
BEGIN:VEVENT
UID:2014
DTSTAMP:20260419T164540
DTSTART:20140801T000000
DTEND:20140802T000000
SUMMARY:Sopar + Revista - Festa Major 2014
LOCATION:
METHOD:PUBLISH
X-WR-CALNAME:castellgali@diba.cat
X-WR-TIMEZONE:Europe/Madrid
DESCRIPTION:
URI:https://www.castellgali.cat/actualitat/agenda-/sopar--revista-festa-major-2014.html
CLASS:PUBLIC
END:VEVENT
END:VCALENDAR
