BEGIN:VCALENDAR
VERSION:2.0
CALSCALE:GREGORIAN
PRODID:-//Diputació de Barcelona//DibaCMS//EN
BEGIN:VEVENT
UID:2026
DTSTAMP:20260419T135026
DTSTART:20141118T000000
DTEND:20141219T000000
SUMMARY:Dinar de germanor al WOK
LOCATION:
METHOD:PUBLISH
X-WR-CALNAME:castellgali@diba.cat
X-WR-TIMEZONE:Europe/Madrid
DESCRIPTION:
URI:https://www.castellgali.cat/actualitat/agenda-/2026-dinar-de-germanor-al-wok.html
CLASS:PUBLIC
END:VEVENT
END:VCALENDAR
