BEGIN:VCALENDAR
VERSION:2.0
CALSCALE:GREGORIAN
PRODID:-//Diputació de Barcelona//DibaCMS//EN
BEGIN:VEVENT
UID:2027
DTSTAMP:20260419T135810
DTSTART:20150105T000000
DTEND:20150106T000000
SUMMARY:Gran Cavalcada de Reis de Castellgalí
LOCATION:
METHOD:PUBLISH
X-WR-CALNAME:castellgali@diba.cat
X-WR-TIMEZONE:Europe/Madrid
DESCRIPTION:
URI:https://www.castellgali.cat/actualitat/agenda-/2027-gran-cavalcada-de-reis-de-castellgali.html
CLASS:PUBLIC
END:VEVENT
END:VCALENDAR
