BEGIN:VCALENDAR
VERSION:2.0
CALSCALE:GREGORIAN
PRODID:-//Diputació de Barcelona//DibaCMS//EN
BEGIN:VEVENT
UID:3530
DTSTAMP:20260423T104852
DTSTART:20241218T173000
DTEND:20241218T190000
SUMMARY:Taller de lettering per adults
LOCATION:
METHOD:PUBLISH
X-WR-CALNAME:castellgali@diba.cat
X-WR-TIMEZONE:Europe/Madrid
DESCRIPTION:🗓 16 i 18 de desembre
⏰️ De 17:30h a 19:00h
📍 Casal Cultural

URI:https://www.castellgali.cat/actualitat/agenda-/3530-taller-de-lettering-per-adults.html
CLASS:PUBLIC
END:VEVENT
END:VCALENDAR
