BEGIN:VCALENDAR
VERSION:2.0
CALSCALE:GREGORIAN
PRODID:-//Diputació de Barcelona//DibaCMS//EN
BEGIN:VEVENT
UID:3569
DTSTAMP:20260419T135126
DTSTART:20250306T093000
DTEND:20250306T110000
SUMMARY:Taller experimental STEAM relats i científiques
LOCATION:
METHOD:PUBLISH
X-WR-CALNAME:castellgali@diba.cat
X-WR-TIMEZONE:Europe/Madrid
DESCRIPTION:En el marc del 8M, taller "Estacions científiques" 
Activitat familiar per als infants de 6 a 12 anys per descobrir la història amagada d’una científica i experimentar amb els misteris de l’aigua 
📅 Dijous 6 de març
📍 Escola Sant Miquel de Castellgalí
⏳ De 9:30h a 11:00h
Taller tancat als alumnes de l’escola Sant Miquel de Castellgalí, per tal que puguin gaudir-ho amb les seves famílies

URI:https://www.castellgali.cat/actualitat/agenda-/taller-experimental-steam-relats-i-cientifiques.html
CLASS:PUBLIC
END:VEVENT
END:VCALENDAR
